BEGIN:VCALENDAR
VERSION:2.0
PRODID:-//Inova Blood Donor Services - ECPv6.15.16.1//NONSGML v1.0//EN
CALSCALE:GREGORIAN
METHOD:PUBLISH
X-WR-CALNAME:Inova Blood Donor Services
X-ORIGINAL-URL:https://www.inovablood.org
X-WR-CALDESC:Events for Inova Blood Donor Services
REFRESH-INTERVAL;VALUE=DURATION:PT1H
X-Robots-Tag:noindex
X-PUBLISHED-TTL:PT1H
BEGIN:VTIMEZONE
TZID:America/New_York
BEGIN:DAYLIGHT
TZOFFSETFROM:-0500
TZOFFSETTO:-0400
TZNAME:EDT
DTSTART:20220313T070000
END:DAYLIGHT
BEGIN:STANDARD
TZOFFSETFROM:-0400
TZOFFSETTO:-0500
TZNAME:EST
DTSTART:20221106T060000
END:STANDARD
BEGIN:DAYLIGHT
TZOFFSETFROM:-0500
TZOFFSETTO:-0400
TZNAME:EDT
DTSTART:20230312T070000
END:DAYLIGHT
BEGIN:STANDARD
TZOFFSETFROM:-0400
TZOFFSETTO:-0500
TZNAME:EST
DTSTART:20231105T060000
END:STANDARD
BEGIN:DAYLIGHT
TZOFFSETFROM:-0500
TZOFFSETTO:-0400
TZNAME:EDT
DTSTART:20240310T070000
END:DAYLIGHT
BEGIN:STANDARD
TZOFFSETFROM:-0400
TZOFFSETTO:-0500
TZNAME:EST
DTSTART:20241103T060000
END:STANDARD
BEGIN:DAYLIGHT
TZOFFSETFROM:-0500
TZOFFSETTO:-0400
TZNAME:EDT
DTSTART:20250309T070000
END:DAYLIGHT
BEGIN:STANDARD
TZOFFSETFROM:-0400
TZOFFSETTO:-0500
TZNAME:EST
DTSTART:20251102T060000
END:STANDARD
END:VTIMEZONE
BEGIN:VEVENT
DTSTART;TZID=America/New_York:20240404T100000
DTEND;TZID=America/New_York:20240404T140000
DTSTAMP:20260422T050930
CREATED:20240322T184733Z
LAST-MODIFIED:20240322T184733Z
UID:10002187-1712224800-1712239200@www.inovablood.org
SUMMARY:NVCC Alexandria Campus Blood Drive
DESCRIPTION:Northern Virginia Community College – Alexandria Campus is hosting a blood drive on Thursday\, April 4. The bloodmobile will be parked in the B-1 Parking lot on NVCC’s Alexandria campus. All students and community members are invited. \nAll donors will receive a spring-themed Give Blood. Give Life shirt as their donor appreciation gift.* \nMake an appointment \nor call 1(866) 256-6372\, use Sponsor Code 5016 \nQuestions:\nContact: Nigel Word – wordnc@nvcc.edu \nPhoto ID Required. Masking is optional for all donors and team members. Allow one hour for your donation. *While supplies last. Colors may vary. Must complete the screening process to receive the giveaway.
URL:https://www.inovablood.org/event/nvcc0404/
LOCATION:Northern Virginia Community College – Alexandria Campus\, 5000 Dawes Avenue\, Alexandria\, VA\, 22311\, United States
END:VEVENT
BEGIN:VEVENT
DTSTART;TZID=America/New_York:20230913T100000
DTEND;TZID=America/New_York:20230913T140000
DTSTAMP:20260422T050930
CREATED:20230901T004243Z
LAST-MODIFIED:20230901T004243Z
UID:10001937-1694599200-1694613600@www.inovablood.org
SUMMARY:NVCC Alexandria Campus Blood Drive
DESCRIPTION:Northern Virginia Community College – Alexandria Campus is hosting a blood drive on Wednesday\, September 13. The bloodmobile will be parked in the B-1 Parking lot on NVCC’s Alexandria campus. All students and community members are invited. \nAll donors will receive an Inova Blood Donor Services legacy t-shirt as a thank you for donating.* \nBook your appointment:\nVisit: https://bit.ly/NVCCAlex0913\nor\nCall 1(866) 256-6372\, use Sponsor Code 5016 \nQuestions:\nContact: Nigel Word – wordnc@nvcc.edu \nPhoto ID Required. Masking is optional for all donors and team members. Allow one hour for your donation. *While supplies last. Colors may vary. Must complete the screening process to receive the giveaway.
URL:https://www.inovablood.org/event/nvcc0913/
LOCATION:Northern Virginia Community College – Alexandria Campus\, 5000 Dawes Avenue\, Alexandria\, VA\, 22311\, United States
END:VEVENT
END:VCALENDAR