BEGIN:VCALENDAR
VERSION:2.0
PRODID:-//Inova Blood Donor Services - ECPv6.15.16.1//NONSGML v1.0//EN
CALSCALE:GREGORIAN
METHOD:PUBLISH
X-WR-CALNAME:Inova Blood Donor Services
X-ORIGINAL-URL:https://www.inovablood.org
X-WR-CALDESC:Events for Inova Blood Donor Services
REFRESH-INTERVAL;VALUE=DURATION:PT1H
X-Robots-Tag:noindex
X-PUBLISHED-TTL:PT1H
BEGIN:VTIMEZONE
TZID:America/New_York
BEGIN:DAYLIGHT
TZOFFSETFROM:-0500
TZOFFSETTO:-0400
TZNAME:EDT
DTSTART:20240310T070000
END:DAYLIGHT
BEGIN:STANDARD
TZOFFSETFROM:-0400
TZOFFSETTO:-0500
TZNAME:EST
DTSTART:20241103T060000
END:STANDARD
BEGIN:DAYLIGHT
TZOFFSETFROM:-0500
TZOFFSETTO:-0400
TZNAME:EDT
DTSTART:20250309T070000
END:DAYLIGHT
BEGIN:STANDARD
TZOFFSETFROM:-0400
TZOFFSETTO:-0500
TZNAME:EST
DTSTART:20251102T060000
END:STANDARD
BEGIN:DAYLIGHT
TZOFFSETFROM:-0500
TZOFFSETTO:-0400
TZNAME:EDT
DTSTART:20260308T070000
END:DAYLIGHT
BEGIN:STANDARD
TZOFFSETFROM:-0400
TZOFFSETTO:-0500
TZNAME:EST
DTSTART:20261101T060000
END:STANDARD
END:VTIMEZONE
BEGIN:VEVENT
DTSTART;TZID=America/New_York:20250824T090000
DTEND;TZID=America/New_York:20250824T120000
DTSTAMP:20260421T093429
CREATED:20250724T145111Z
LAST-MODIFIED:20250724T145111Z
UID:10003410-1756026000-1756036800@www.inovablood.org
SUMMARY:Burn Boot Camp - Leesburg Blood Drive
DESCRIPTION:Burn Boot Camp – Leesburg is hosting a blood drive on Sunday\, August 24\, from 9 am – 12 pm. All gym members and community members are invited. \nAll donors will receive the summer item as their donor appreciation gift. \nMake an appointment \nor call: 1(866) 256-6372 \nContact: Jennifer Hogan\nEmail: jenvthokie@gmail.com \nPhoto ID Required. Masking is optional for all donors. Allow one hour for your donation. *While supplies last. Colors may vary. Must complete the screening process to receive the giveaway.
URL:https://www.inovablood.org/event/burn-boot-camp-august/
LOCATION:Burn Boot Camp – Leesburg\, 960 Sycolin Rd\, Leesburg\, VA\, 20175\, United States
END:VEVENT
END:VCALENDAR