BEGIN:VCALENDAR
VERSION:2.0
PRODID:-//Inova Blood Donor Services - ECPv6.15.16.1//NONSGML v1.0//EN
CALSCALE:GREGORIAN
METHOD:PUBLISH
X-ORIGINAL-URL:https://www.inovablood.org
X-WR-CALDESC:Events for Inova Blood Donor Services
REFRESH-INTERVAL;VALUE=DURATION:PT1H
X-Robots-Tag:noindex
X-PUBLISHED-TTL:PT1H
BEGIN:VTIMEZONE
TZID:America/New_York
BEGIN:DAYLIGHT
TZOFFSETFROM:-0500
TZOFFSETTO:-0400
TZNAME:EDT
DTSTART:20230312T070000
END:DAYLIGHT
BEGIN:STANDARD
TZOFFSETFROM:-0400
TZOFFSETTO:-0500
TZNAME:EST
DTSTART:20231105T060000
END:STANDARD
BEGIN:DAYLIGHT
TZOFFSETFROM:-0500
TZOFFSETTO:-0400
TZNAME:EDT
DTSTART:20240310T070000
END:DAYLIGHT
BEGIN:STANDARD
TZOFFSETFROM:-0400
TZOFFSETTO:-0500
TZNAME:EST
DTSTART:20241103T060000
END:STANDARD
BEGIN:DAYLIGHT
TZOFFSETFROM:-0500
TZOFFSETTO:-0400
TZNAME:EDT
DTSTART:20250309T070000
END:DAYLIGHT
BEGIN:STANDARD
TZOFFSETFROM:-0400
TZOFFSETTO:-0500
TZNAME:EST
DTSTART:20251102T060000
END:STANDARD
BEGIN:DAYLIGHT
TZOFFSETFROM:-0500
TZOFFSETTO:-0400
TZNAME:EDT
DTSTART:20260308T070000
END:DAYLIGHT
BEGIN:STANDARD
TZOFFSETFROM:-0400
TZOFFSETTO:-0500
TZNAME:EST
DTSTART:20261101T060000
END:STANDARD
BEGIN:DAYLIGHT
TZOFFSETFROM:-0500
TZOFFSETTO:-0400
TZNAME:EDT
DTSTART:20270314T070000
END:DAYLIGHT
BEGIN:STANDARD
TZOFFSETFROM:-0400
TZOFFSETTO:-0500
TZNAME:EST
DTSTART:20271107T060000
END:STANDARD
END:VTIMEZONE
BEGIN:VEVENT
DTSTART;TZID=America/New_York:20260214T140000
DTEND;TZID=America/New_York:20260214T190000
DTSTAMP:20260424T043321
CREATED:20260126T192636Z
LAST-MODIFIED:20260126T192636Z
UID:10003651-1771077600-1771095600@www.inovablood.org
SUMMARY:Workhouse Arts Center Blood Drive
DESCRIPTION:The Workhouse Arts Center in Lorton is hosting a blood drive on Saturday\, February 14. The bloodmobile will be in the parking lot. All neighbors and community members are invited. \nAll donors will receive a Love is in my blood long-sleeve shirt as their donor appreciation gift. Art is in our blood. \nMake an appointment \nor call 1(866) 256-6372\, use Sponsor Code 7069 \nQuestions:\nContact: Tim Grant\ntgrantartworks@gmail.com \nPhoto ID Required. Masking is optional for all donors and team members. Allow one hour for your donation. *While supplies last. Colors may vary. Must complete the screening process to receive the giveaway.
URL:https://www.inovablood.org/event/workhouse-arts-center-0226/
LOCATION:Workhouse Arts Center\, 9518 Workhouse Way\, Lorton\, VA\, 22079\, United States
END:VEVENT
BEGIN:VEVENT
DTSTART;TZID=America/New_York:20251011T140000
DTEND;TZID=America/New_York:20251011T190000
DTSTAMP:20260424T043321
CREATED:20250922T192333Z
LAST-MODIFIED:20250922T192333Z
UID:10003504-1760191200-1760209200@www.inovablood.org
SUMMARY:Workhouse Arts Center Blood Drive
DESCRIPTION:The Workhouse Arts Center in Lorton is hosting a blood drive on Saturday\, October 11. The bloodmobile will be in the parking lot. All neighbors and community members are invited. \nAll donors will receive a Halloween shirt as their donor appreciation gift. Art is in our blood. \nMake an appointment \nor call 1(866) 256-6372\, use Sponsor Code 7069 \nQuestions:\nContact: Tim Grant\ntgrantartworks@gmail.com \nPhoto ID Required. Masking is optional for all donors and team members. Allow one hour for your donation. *While supplies last. Colors may vary. Must complete the screening process to receive the giveaway.
URL:https://www.inovablood.org/event/workhouse-arts-center-2/
LOCATION:Workhouse Arts Center\, 9518 Workhouse Way\, Lorton\, VA\, 22079\, United States
END:VEVENT
BEGIN:VEVENT
DTSTART;TZID=America/New_York:20240608T160000
DTEND;TZID=America/New_York:20240608T200000
DTSTAMP:20260424T043321
CREATED:20240529T162136Z
LAST-MODIFIED:20240529T162136Z
UID:10002268-1717862400-1717876800@www.inovablood.org
SUMMARY:Workhouse Arts Center Blood Drive
DESCRIPTION:The Workhouse Arts Center in Lorton is hosting a blood drive on Saturday\, June 8. The bloodmobile will be in the parking lot. All neighbors and community members are invited. \nAll donors will receive a dedicated donor water bottle as their donor appreciation gift. Art is in our blood. \nMake an appointment \nor call 1(866) 256-6372\, use Sponsor Code 7069 \nQuestions:\nContact: Tim Grant\ntgrantartworks@gmail.com \nPhoto ID Required. Masking is optional for all donors and team members. Allow one hour for your donation. *While supplies last. Colors may vary. Must complete the screening process to receive the giveaway.
URL:https://www.inovablood.org/event/workhouse-arts-center/
LOCATION:Workhouse Arts Center\, 9518 Workhouse Way\, Lorton\, VA\, 22079\, United States
END:VEVENT
END:VCALENDAR