BEGIN:VCALENDAR
VERSION:2.0
PRODID:-//Inova Blood Donor Services - ECPv6.15.16.1//NONSGML v1.0//EN
CALSCALE:GREGORIAN
METHOD:PUBLISH
X-ORIGINAL-URL:https://www.inovablood.org
X-WR-CALDESC:Events for Inova Blood Donor Services
REFRESH-INTERVAL;VALUE=DURATION:PT1H
X-Robots-Tag:noindex
X-PUBLISHED-TTL:PT1H
BEGIN:VTIMEZONE
TZID:America/New_York
BEGIN:DAYLIGHT
TZOFFSETFROM:-0500
TZOFFSETTO:-0400
TZNAME:EDT
DTSTART:20220313T070000
END:DAYLIGHT
BEGIN:STANDARD
TZOFFSETFROM:-0400
TZOFFSETTO:-0500
TZNAME:EST
DTSTART:20221106T060000
END:STANDARD
BEGIN:DAYLIGHT
TZOFFSETFROM:-0500
TZOFFSETTO:-0400
TZNAME:EDT
DTSTART:20230312T070000
END:DAYLIGHT
BEGIN:STANDARD
TZOFFSETFROM:-0400
TZOFFSETTO:-0500
TZNAME:EST
DTSTART:20231105T060000
END:STANDARD
BEGIN:DAYLIGHT
TZOFFSETFROM:-0500
TZOFFSETTO:-0400
TZNAME:EDT
DTSTART:20240310T070000
END:DAYLIGHT
BEGIN:STANDARD
TZOFFSETFROM:-0400
TZOFFSETTO:-0500
TZNAME:EST
DTSTART:20241103T060000
END:STANDARD
BEGIN:DAYLIGHT
TZOFFSETFROM:-0500
TZOFFSETTO:-0400
TZNAME:EDT
DTSTART:20250309T070000
END:DAYLIGHT
BEGIN:STANDARD
TZOFFSETFROM:-0400
TZOFFSETTO:-0500
TZNAME:EST
DTSTART:20251102T060000
END:STANDARD
BEGIN:DAYLIGHT
TZOFFSETFROM:-0500
TZOFFSETTO:-0400
TZNAME:EDT
DTSTART:20260308T070000
END:DAYLIGHT
BEGIN:STANDARD
TZOFFSETFROM:-0400
TZOFFSETTO:-0500
TZNAME:EST
DTSTART:20261101T060000
END:STANDARD
BEGIN:DAYLIGHT
TZOFFSETFROM:-0500
TZOFFSETTO:-0400
TZNAME:EDT
DTSTART:20270314T070000
END:DAYLIGHT
BEGIN:STANDARD
TZOFFSETFROM:-0400
TZOFFSETTO:-0500
TZNAME:EST
DTSTART:20271107T060000
END:STANDARD
END:VTIMEZONE
BEGIN:VEVENT
DTSTART;TZID=America/New_York:20260418T080000
DTEND;TZID=America/New_York:20260418T123000
DTSTAMP:20260419T082234
CREATED:20260326T134101Z
LAST-MODIFIED:20260326T134101Z
UID:10003716-1776499200-1776515400@www.inovablood.org
SUMMARY:Lovettsville Community Blood Drive
DESCRIPTION:The Lovettsville Community Blood Drive will be on Saturday\, April 18. The drive will be located in the Lovettsville Game Club Hall. All neighbors and community members are invited. \nAll donors will receive a hooded pullover tee as a donor appreciation gift. \nMake an appointment \nor call 1(866) 256-6372\, use Sponsor Code 8603 \nQuestions:\nContact: Amanda Bowers\nEmail: rescue14@comcast.net \nPhoto ID Required. Masking is optional for all donors and team members. Allow one hour for your donation. *While supplies last. Colors may vary. Must complete the screening process to receive the giveaway.
URL:https://www.inovablood.org/event/lovettsville0418/
LOCATION:Lovettsville Game Club Hall\, 16 South Berlin Pike\, Lovettsville\, VA\, 20180\, United States
END:VEVENT
BEGIN:VEVENT
DTSTART;TZID=America/New_York:20260214T080000
DTEND;TZID=America/New_York:20260214T123000
DTSTAMP:20260419T082234
CREATED:20260126T192342Z
LAST-MODIFIED:20260126T192342Z
UID:10003650-1771056000-1771072200@www.inovablood.org
SUMMARY:Lovettsville Community Blood Drive
DESCRIPTION:The Lovettsville Community Blood Drive will be on Saturday\, February 14. The drive will be located in the Lovettsville Game Club Hall. All neighbors and community members are invited. \nAll donors will receive a long-sleeve shirt as a donor appreciation gift. \nMake an appointment \nor call 1(866) 256-6372\, use Sponsor Code 8603 \nQuestions:\nContact: Amanda Bowers\nEmail: rescue14@comcast.net \nPhoto ID Required. Masking is optional for all donors and team members. Allow one hour for your donation. *While supplies last. Colors may vary. Must complete the screening process to receive the giveaway.
URL:https://www.inovablood.org/event/lovettsville0214/
LOCATION:Lovettsville Game Club Hall\, 16 South Berlin Pike\, Lovettsville\, VA\, 20180\, United States
END:VEVENT
BEGIN:VEVENT
DTSTART;TZID=America/New_York:20251213T080000
DTEND;TZID=America/New_York:20251213T123000
DTSTAMP:20260419T082234
CREATED:20251201T171427Z
LAST-MODIFIED:20251201T171427Z
UID:10003589-1765612800-1765629000@www.inovablood.org
SUMMARY:Lovettsville Community Blood Drive
DESCRIPTION:The Lovettsville Community Blood Drive will be on Saturday\, December 13. The drive will be located in the Lovettsville Game Club Hall. All neighbors and community members are invited. \nAll donors will receive a festive holiday T-shirt as a donor appreciation gift. \nMake an appointment \nor call 1(866) 256-6372\, use Sponsor Code 8603 \nQuestions:\nContact: Amanda Bowers\nEmail: rescue14@comcast.net \nPhoto ID Required. Masking is optional for all donors and team members. Allow one hour for your donation. *While supplies last. Colors may vary. Must complete the screening process to receive the giveaway.
URL:https://www.inovablood.org/event/lovettsville1213/
LOCATION:Lovettsville Game Club Hall\, 16 South Berlin Pike\, Lovettsville\, VA\, 20180\, United States
END:VEVENT
BEGIN:VEVENT
DTSTART;TZID=America/New_York:20250913T080000
DTEND;TZID=America/New_York:20250913T123000
DTSTAMP:20260419T082234
CREATED:20250902T153432Z
LAST-MODIFIED:20250902T153432Z
UID:10003464-1757750400-1757766600@www.inovablood.org
SUMMARY:Lovettsville Community Blood Drive
DESCRIPTION:The Lovettsville Community Blood Drive will be on Saturday\, September 13. The drive will be located in the Lovettsville Game Club Hall. All neighbors and community members are invited. \nAll donors will receive a lunch bag or sling bag as a donor appreciation gift. \nMake an appointment \nor call 1(866) 256-6372\, use Sponsor Code 8603 \nQuestions:\nContact: Amanda Bowers\nEmail: rescue14@comcast.net \nPhoto ID Required. Masking is optional for all donors and team members. Allow one hour for your donation. *While supplies last. Colors may vary. Must complete the screening process to receive the giveaway.
URL:https://www.inovablood.org/event/lovettsville0913/
LOCATION:Lovettsville Game Club Hall\, 16 South Berlin Pike\, Lovettsville\, VA\, 20180\, United States
END:VEVENT
BEGIN:VEVENT
DTSTART;TZID=America/New_York:20250614T080000
DTEND;TZID=America/New_York:20250614T123000
DTSTAMP:20260419T082234
CREATED:20250605T143746Z
LAST-MODIFIED:20250605T143746Z
UID:10003331-1749888000-1749904200@www.inovablood.org
SUMMARY:Lovettsville Community Blood Drive
DESCRIPTION:The Lovettsville Community Blood Drive will be on Saturday\, June 14. The drive will be located in the Lovettsville Game Club Hall. All neighbors and community members are invited. \nAll donors will receive a cooling neck fan as a donor appreciation gift. \nMake an appointment \nor call 1(866) 256-6372\, use Sponsor Code 8603 \nQuestions:\nContact: Amanda Bowers\nEmail: rescue14@comcast.net \nPhoto ID Required. Masking is optional for all donors and team members. Allow one hour for your donation. *While supplies last. Colors may vary. Must complete the screening process to receive the giveaway.
URL:https://www.inovablood.org/event/lovettsville0614/
LOCATION:Lovettsville Game Club Hall\, 16 South Berlin Pike\, Lovettsville\, VA\, 20180\, United States
END:VEVENT
BEGIN:VEVENT
DTSTART;TZID=America/New_York:20250308T080000
DTEND;TZID=America/New_York:20250308T123000
DTSTAMP:20260419T082234
CREATED:20250303T135456Z
LAST-MODIFIED:20250303T135456Z
UID:10002808-1741420800-1741437000@www.inovablood.org
SUMMARY:Lovettsville Community Blood Drive
DESCRIPTION:The Lovettsville Community Blood Drive will be on Saturday\, March 8. The drive will be located in the Lovettsville Game Club Hall. All neighbors and community members are invited. \nAll donors will receive a heartfelt umbrella as a donor appreciation gift. \nMake an appointment \nor call 1(866) 256-6372\, use Sponsor Code 8603 \nQuestions:\nContact: Amanda Bowers\nEmail: rescue14@comcast.net \nPhoto ID Required. Masking is optional for all donors and team members. Allow one hour for your donation. *While supplies last. Colors may vary. Must complete the screening process to receive the giveaway.
URL:https://www.inovablood.org/event/lovettsville0308/
LOCATION:Lovettsville Game Club Hall\, 16 South Berlin Pike\, Lovettsville\, VA\, 20180\, United States
END:VEVENT
BEGIN:VEVENT
DTSTART;TZID=America/New_York:20241214T080000
DTEND;TZID=America/New_York:20241214T123000
DTSTAMP:20260419T082234
CREATED:20241209T213619Z
LAST-MODIFIED:20241209T213619Z
UID:10002366-1734163200-1734179400@www.inovablood.org
SUMMARY:Lovettsville Community Blood Drive
DESCRIPTION:The Lovettsville Community Blood Drive will be on Saturday\, December 14. The drive will be located in the Lovettsville Game Club Hall. All neighbors and community members are invited. \nAll donors will receive a festive donor appreciation gift. \nMake an appointment \nor call 1(866) 256-6372\, use Sponsor Code 8603 \nQuestions:\nContact: Fred George – flgeorge3@aol.com \nPhoto ID Required. Masking is optional for all donors and team members. Allow one hour for your donation. *While supplies last. Colors may vary. Must complete the screening process to receive the giveaway.
URL:https://www.inovablood.org/event/lovettsvilledec/
LOCATION:Lovettsville Game Club Hall\, 16 South Berlin Pike\, Lovettsville\, VA\, 20180\, United States
END:VEVENT
BEGIN:VEVENT
DTSTART;TZID=America/New_York:20240615T080000
DTEND;TZID=America/New_York:20240615T123000
DTSTAMP:20260419T082234
CREATED:20240604T190248Z
LAST-MODIFIED:20240604T190248Z
UID:10002278-1718438400-1718454600@www.inovablood.org
SUMMARY:Lovettsville Community Blood Drive
DESCRIPTION:The Lovettsville Community Blood Drive will be on Saturday\, June 15. The drive will be located in the Lovettsville Game Club Hall. All neighbors and community members are invited. \nAll donors will receive a dedicated donor water bottle as their donor appreciation gift. \nMake an appointment \nor call 1(866) 256-6372\, use Sponsor Code 8603 \nQuestions:\nContact: Fred George – flgeorge3@aol.com \nPhoto ID Required. Masking is optional for all donors and team members. Allow one hour for your donation. *While supplies last. Colors may vary. Must complete the screening process to receive the giveaway.
URL:https://www.inovablood.org/event/lovettsville-june/
LOCATION:Lovettsville Game Club Hall\, 16 South Berlin Pike\, Lovettsville\, VA\, 20180\, United States
END:VEVENT
BEGIN:VEVENT
DTSTART;TZID=America/New_York:20240316T080000
DTEND;TZID=America/New_York:20240316T123000
DTSTAMP:20260419T082234
CREATED:20240313T133929Z
LAST-MODIFIED:20240313T133929Z
UID:10002179-1710576000-1710592200@www.inovablood.org
SUMMARY:Lovettsville Community Blood Drive
DESCRIPTION:The Lovettsville Community Blood Drive will be on Saturday\, March 16. The drive will be located in the Lovettsville Game Club Hall. All neighbors and community members are invited. \nMake an appointment \nor call 1(866) 256-6372\, use Sponsor Code 8603 \nQuestions:\nContact: Fred George – flgeorge3@aol.com \nPhoto ID Required. Masking is optional for all donors and team members. Allow one hour for your donation. *While supplies last. Colors may vary. Must complete the screening process to receive the giveaway.
URL:https://www.inovablood.org/event/lovettsville-dec-2/
LOCATION:Lovettsville Game Club Hall\, 16 South Berlin Pike\, Lovettsville\, VA\, 20180\, United States
END:VEVENT
BEGIN:VEVENT
DTSTART;TZID=America/New_York:20231216T080000
DTEND;TZID=America/New_York:20231216T123000
DTSTAMP:20260419T082234
CREATED:20231117T020313Z
LAST-MODIFIED:20231117T020313Z
UID:10002045-1702713600-1702729800@www.inovablood.org
SUMMARY:Lovettsville Community Blood Drive
DESCRIPTION:The Lovettsville Community Blood Drive will be on Saturday\, December 16. The drive will be located in the Lovettsville Game Club Hall. All neighbors and community members are invited. \nBook your appointment:\nVisit: https://bit.ly/Lovettsville1216\nor\nCall 1(866) 256-6372\, use Sponsor Code 8603 \nQuestions:\nContact: Fred George – flgeorge3@aol.com \nPhoto ID Required. Masking is optional for all donors and team members. Allow one hour for your donation. *While supplies last. Colors may vary. Must complete the screening process to receive the giveaway.
URL:https://www.inovablood.org/event/lovettsville-dec/
LOCATION:Lovettsville Game Club Hall\, 16 South Berlin Pike\, Lovettsville\, VA\, 20180\, United States
END:VEVENT
BEGIN:VEVENT
DTSTART;TZID=America/New_York:20230909T080000
DTEND;TZID=America/New_York:20230909T123000
DTSTAMP:20260419T082234
CREATED:20230809T163513Z
LAST-MODIFIED:20230809T163513Z
UID:10001909-1694246400-1694262600@www.inovablood.org
SUMMARY:Lovettsville Community Blood Drive
DESCRIPTION:The Lovettsville Community Blood Drive will be on Saturday\, September 9. The drive will be located in the Lovettsville Game Club Hall. All neighbors and community members are invited. \nAll donors will receive an Inova Blood Donor Services legacy t-shirt as a thank you for donating.* \nBook your appointment:\nVisit: https://bit.ly/Lovettsville090923\nor\nCall 1(866) 256-6372\, use Sponsor Code 8603 \nQuestions:\nContact: Fred George – flgeorge3@aol.com \nPhoto ID Required. Masking is optional for all donors and team members. Allow one hour for your donation. *While supplies last. Colors may vary. Must complete the screening process to receive the giveaway.
URL:https://www.inovablood.org/event/lovettsville/
LOCATION:Lovettsville Game Club Hall\, 16 South Berlin Pike\, Lovettsville\, VA\, 20180\, United States
END:VEVENT
END:VCALENDAR